BEGIN:VCALENDAR
VERSION:2.0
PRODID:-//Dental TLC - ECPv6.6.4.2//NONSGML v1.0//EN
CALSCALE:GREGORIAN
METHOD:PUBLISH
X-WR-CALNAME:Dental TLC
X-ORIGINAL-URL:https://dentaltlc.com
X-WR-CALDESC:Events for Dental TLC
REFRESH-INTERVAL;VALUE=DURATION:PT1H
X-Robots-Tag:noindex
X-PUBLISHED-TTL:PT1H
BEGIN:VTIMEZONE
TZID:America/New_York
BEGIN:DAYLIGHT
TZOFFSETFROM:-0500
TZOFFSETTO:-0400
TZNAME:EDT
DTSTART:20250309T070000
END:DAYLIGHT
BEGIN:STANDARD
TZOFFSETFROM:-0400
TZOFFSETTO:-0500
TZNAME:EST
DTSTART:20251102T060000
END:STANDARD
BEGIN:DAYLIGHT
TZOFFSETFROM:-0500
TZOFFSETTO:-0400
TZNAME:EDT
DTSTART:20260308T070000
END:DAYLIGHT
BEGIN:STANDARD
TZOFFSETFROM:-0400
TZOFFSETTO:-0500
TZNAME:EST
DTSTART:20261101T060000
END:STANDARD
END:VTIMEZONE
BEGIN:VEVENT
DTSTART;TZID=America/New_York:20250623T080000
DTEND;TZID=America/New_York:20250623T170000
DTSTAMP:20260423T064952
CREATED:20170316T182638Z
LAST-MODIFIED:20170316T182638Z
UID:7691-1750665600-1750698000@dentaltlc.com
SUMMARY:7:00am-6:45pm
DESCRIPTION:Hi! We are open Mondays from 7:00am-6:45pm. \nContact us to request an appointment or if you have any questions: \nRequest Appointment \n404-255-227 \nNeed to find us?\nGet Directions
URL:https://dentaltlc.com/event/700am-645pm-2025-06-23/
END:VEVENT
BEGIN:VEVENT
DTSTART;TZID=America/New_York:20250620T062000
DTEND;TZID=America/New_York:20250620T124500
DTSTAMP:20260423T064952
CREATED:20170316T190740Z
LAST-MODIFIED:20170316T190740Z
UID:7690-1750400400-1750423500@dentaltlc.com
SUMMARY:7:00am - 3:45pm
DESCRIPTION:Hi! We will be open Friday from 7:00am – 3:45pm. \nContact us to request an appointment or if you have any questions: \nRequest Appointment \n404-255-227 \nNeed to find us?\nGet Directions
URL:https://dentaltlc.com/event/620am-1245pm-2025-06-20/
LOCATION:290 Hilderbrand Dr #9\, Sandy Springs\, 30328\, United States
END:VEVENT
BEGIN:VEVENT
DTSTART;TZID=America/New_York:20250619T062000
DTEND;TZID=America/New_York:20250619T174500
DTSTAMP:20260423T064952
CREATED:20170316T184416Z
LAST-MODIFIED:20170316T184416Z
UID:7689-1750314000-1750355100@dentaltlc.com
SUMMARY:7:00am-6:45pm
DESCRIPTION:Hi! We are open Thursdays from 7:00am-6:45pm. \nContact us to request an appointment or if you have any questions: \nRequest Appointment \n404-255-227 \nNeed to find us?\nGet Directions
URL:https://dentaltlc.com/event/620am-545pm-2020-09-03-2025-06-19/
LOCATION:290 Hilderbrand Dr #9\, Sandy Springs\, GA\, 30328\, United States
END:VEVENT
BEGIN:VEVENT
DTSTART;TZID=America/New_York:20250616T080000
DTEND;TZID=America/New_York:20250616T170000
DTSTAMP:20260423T064952
CREATED:20170316T182638Z
LAST-MODIFIED:20170316T182638Z
UID:7686-1750060800-1750093200@dentaltlc.com
SUMMARY:7:00am-6:45pm
DESCRIPTION:Hi! We are open Mondays from 7:00am-6:45pm. \nContact us to request an appointment or if you have any questions: \nRequest Appointment \n404-255-227 \nNeed to find us?\nGet Directions
URL:https://dentaltlc.com/event/700am-645pm-2025-06-16/
END:VEVENT
BEGIN:VEVENT
DTSTART;TZID=America/New_York:20250613T062000
DTEND;TZID=America/New_York:20250613T124500
DTSTAMP:20260423T064952
CREATED:20170316T190740Z
LAST-MODIFIED:20170316T190740Z
UID:7685-1749795600-1749818700@dentaltlc.com
SUMMARY:7:00am - 3:45pm
DESCRIPTION:Hi! We will be open Friday from 7:00am – 3:45pm. \nContact us to request an appointment or if you have any questions: \nRequest Appointment \n404-255-227 \nNeed to find us?\nGet Directions
URL:https://dentaltlc.com/event/620am-1245pm-2025-06-13/
LOCATION:290 Hilderbrand Dr #9\, Sandy Springs\, 30328\, United States
END:VEVENT
BEGIN:VEVENT
DTSTART;TZID=America/New_York:20250612T062000
DTEND;TZID=America/New_York:20250612T174500
DTSTAMP:20260423T064952
CREATED:20170316T184416Z
LAST-MODIFIED:20170316T184416Z
UID:7684-1749709200-1749750300@dentaltlc.com
SUMMARY:7:00am-6:45pm
DESCRIPTION:Hi! We are open Thursdays from 7:00am-6:45pm. \nContact us to request an appointment or if you have any questions: \nRequest Appointment \n404-255-227 \nNeed to find us?\nGet Directions
URL:https://dentaltlc.com/event/620am-545pm-2020-09-03-2025-06-12/
LOCATION:290 Hilderbrand Dr #9\, Sandy Springs\, GA\, 30328\, United States
END:VEVENT
BEGIN:VEVENT
DTSTART;TZID=America/New_York:20250609T080000
DTEND;TZID=America/New_York:20250609T170000
DTSTAMP:20260423T064952
CREATED:20170316T182638Z
LAST-MODIFIED:20170316T182638Z
UID:7681-1749456000-1749488400@dentaltlc.com
SUMMARY:7:00am-6:45pm
DESCRIPTION:Hi! We are open Mondays from 7:00am-6:45pm. \nContact us to request an appointment or if you have any questions: \nRequest Appointment \n404-255-227 \nNeed to find us?\nGet Directions
URL:https://dentaltlc.com/event/700am-645pm-2025-06-09/
END:VEVENT
BEGIN:VEVENT
DTSTART;TZID=America/New_York:20250606T062000
DTEND;TZID=America/New_York:20250606T124500
DTSTAMP:20260423T064952
CREATED:20170316T190740Z
LAST-MODIFIED:20170316T190740Z
UID:7680-1749190800-1749213900@dentaltlc.com
SUMMARY:7:00am - 3:45pm
DESCRIPTION:Hi! We will be open Friday from 7:00am – 3:45pm. \nContact us to request an appointment or if you have any questions: \nRequest Appointment \n404-255-227 \nNeed to find us?\nGet Directions
URL:https://dentaltlc.com/event/620am-1245pm-2025-06-06/
LOCATION:290 Hilderbrand Dr #9\, Sandy Springs\, 30328\, United States
END:VEVENT
BEGIN:VEVENT
DTSTART;TZID=America/New_York:20250605T062000
DTEND;TZID=America/New_York:20250605T174500
DTSTAMP:20260423T064952
CREATED:20170316T184416Z
LAST-MODIFIED:20170316T184416Z
UID:7679-1749104400-1749145500@dentaltlc.com
SUMMARY:7:00am-6:45pm
DESCRIPTION:Hi! We are open Thursdays from 7:00am-6:45pm. \nContact us to request an appointment or if you have any questions: \nRequest Appointment \n404-255-227 \nNeed to find us?\nGet Directions
URL:https://dentaltlc.com/event/620am-545pm-2020-09-03-2025-06-05/
LOCATION:290 Hilderbrand Dr #9\, Sandy Springs\, GA\, 30328\, United States
END:VEVENT
BEGIN:VEVENT
DTSTART;TZID=America/New_York:20250602T080000
DTEND;TZID=America/New_York:20250602T170000
DTSTAMP:20260423T064952
CREATED:20170316T182638Z
LAST-MODIFIED:20170316T182638Z
UID:7675-1748851200-1748883600@dentaltlc.com
SUMMARY:7:00am-6:45pm
DESCRIPTION:Hi! We are open Mondays from 7:00am-6:45pm. \nContact us to request an appointment or if you have any questions: \nRequest Appointment \n404-255-227 \nNeed to find us?\nGet Directions
URL:https://dentaltlc.com/event/700am-645pm-2025-06-02/
END:VEVENT
BEGIN:VEVENT
DTSTART;TZID=America/New_York:20250530T062000
DTEND;TZID=America/New_York:20250530T124500
DTSTAMP:20260423T064952
CREATED:20170316T190740Z
LAST-MODIFIED:20170316T190740Z
UID:7673-1748586000-1748609100@dentaltlc.com
SUMMARY:7:00am - 3:45pm
DESCRIPTION:Hi! We will be open Friday from 7:00am – 3:45pm. \nContact us to request an appointment or if you have any questions: \nRequest Appointment \n404-255-227 \nNeed to find us?\nGet Directions
URL:https://dentaltlc.com/event/620am-1245pm-2025-05-30/
LOCATION:290 Hilderbrand Dr #9\, Sandy Springs\, 30328\, United States
END:VEVENT
BEGIN:VEVENT
DTSTART;TZID=America/New_York:20250529T062000
DTEND;TZID=America/New_York:20250529T174500
DTSTAMP:20260423T064952
CREATED:20170316T184416Z
LAST-MODIFIED:20170316T184416Z
UID:7672-1748499600-1748540700@dentaltlc.com
SUMMARY:7:00am-6:45pm
DESCRIPTION:Hi! We are open Thursdays from 7:00am-6:45pm. \nContact us to request an appointment or if you have any questions: \nRequest Appointment \n404-255-227 \nNeed to find us?\nGet Directions
URL:https://dentaltlc.com/event/620am-545pm-2020-09-03-2025-05-29/
LOCATION:290 Hilderbrand Dr #9\, Sandy Springs\, GA\, 30328\, United States
END:VEVENT
BEGIN:VEVENT
DTSTART;TZID=America/New_York:20250526T080000
DTEND;TZID=America/New_York:20250526T170000
DTSTAMP:20260423T064952
CREATED:20170316T182638Z
LAST-MODIFIED:20170316T182638Z
UID:7669-1748246400-1748278800@dentaltlc.com
SUMMARY:7:00am-6:45pm
DESCRIPTION:Hi! We are open Mondays from 7:00am-6:45pm. \nContact us to request an appointment or if you have any questions: \nRequest Appointment \n404-255-227 \nNeed to find us?\nGet Directions
URL:https://dentaltlc.com/event/700am-645pm-2025-05-26/
END:VEVENT
BEGIN:VEVENT
DTSTART;TZID=America/New_York:20250523T062000
DTEND;TZID=America/New_York:20250523T124500
DTSTAMP:20260423T064952
CREATED:20170316T190740Z
LAST-MODIFIED:20170316T190740Z
UID:7668-1747981200-1748004300@dentaltlc.com
SUMMARY:7:00am - 3:45pm
DESCRIPTION:Hi! We will be open Friday from 7:00am – 3:45pm. \nContact us to request an appointment or if you have any questions: \nRequest Appointment \n404-255-227 \nNeed to find us?\nGet Directions
URL:https://dentaltlc.com/event/620am-1245pm-2025-05-23/
LOCATION:290 Hilderbrand Dr #9\, Sandy Springs\, 30328\, United States
END:VEVENT
BEGIN:VEVENT
DTSTART;TZID=America/New_York:20250522T062000
DTEND;TZID=America/New_York:20250522T174500
DTSTAMP:20260423T064952
CREATED:20170316T184416Z
LAST-MODIFIED:20170316T184416Z
UID:7667-1747894800-1747935900@dentaltlc.com
SUMMARY:7:00am-6:45pm
DESCRIPTION:Hi! We are open Thursdays from 7:00am-6:45pm. \nContact us to request an appointment or if you have any questions: \nRequest Appointment \n404-255-227 \nNeed to find us?\nGet Directions
URL:https://dentaltlc.com/event/620am-545pm-2020-09-03-2025-05-22/
LOCATION:290 Hilderbrand Dr #9\, Sandy Springs\, GA\, 30328\, United States
END:VEVENT
BEGIN:VEVENT
DTSTART;TZID=America/New_York:20250521T070000
DTEND;TZID=America/New_York:20260422T154500
DTSTAMP:20260423T064952
CREATED:20170316T181816Z
LAST-MODIFIED:20170316T181816Z
UID:7666-1747810800-1776872700@dentaltlc.com
SUMMARY:7:00am-3:45pm
DESCRIPTION:Hi! We are open Wednesdays and Fridays from 7:00 am-3:45pm. \nContact us to request an appointment or if you have any questions: \nRequest Appointment \n404-255-227 \nNeed to find us?\nGet Directions
URL:https://dentaltlc.com/event/open-2025-05-21/
LOCATION:290 Hilderbrand Dr #9\, Sandy Springs\, GA\, 30328\, United States
END:VEVENT
BEGIN:VEVENT
DTSTART;TZID=America/New_York:20250520T070000
DTEND;TZID=America/New_York:20260421T154500
DTSTAMP:20260423T064952
CREATED:20170316T181816Z
LAST-MODIFIED:20170316T181816Z
UID:7665-1747724400-1776786300@dentaltlc.com
SUMMARY:7:00am-3:45pm
DESCRIPTION:Hi! We are open Wednesdays and Fridays from 7:00 am-3:45pm. \nContact us to request an appointment or if you have any questions: \nRequest Appointment \n404-255-227 \nNeed to find us?\nGet Directions
URL:https://dentaltlc.com/event/open-2025-05-20/
LOCATION:290 Hilderbrand Dr #9\, Sandy Springs\, GA\, 30328\, United States
END:VEVENT
BEGIN:VEVENT
DTSTART;TZID=America/New_York:20250519T080000
DTEND;TZID=America/New_York:20250519T170000
DTSTAMP:20260423T064952
CREATED:20170316T182638Z
LAST-MODIFIED:20170316T182638Z
UID:7664-1747641600-1747674000@dentaltlc.com
SUMMARY:7:00am-6:45pm
DESCRIPTION:Hi! We are open Mondays from 7:00am-6:45pm. \nContact us to request an appointment or if you have any questions: \nRequest Appointment \n404-255-227 \nNeed to find us?\nGet Directions
URL:https://dentaltlc.com/event/700am-645pm-2025-05-19/
END:VEVENT
BEGIN:VEVENT
DTSTART;TZID=America/New_York:20250516T062000
DTEND;TZID=America/New_York:20250516T124500
DTSTAMP:20260423T064952
CREATED:20170316T190740Z
LAST-MODIFIED:20170316T190740Z
UID:7663-1747376400-1747399500@dentaltlc.com
SUMMARY:7:00am - 3:45pm
DESCRIPTION:Hi! We will be open Friday from 7:00am – 3:45pm. \nContact us to request an appointment or if you have any questions: \nRequest Appointment \n404-255-227 \nNeed to find us?\nGet Directions
URL:https://dentaltlc.com/event/620am-1245pm-2025-05-16/
LOCATION:290 Hilderbrand Dr #9\, Sandy Springs\, 30328\, United States
END:VEVENT
BEGIN:VEVENT
DTSTART;TZID=America/New_York:20250515T062000
DTEND;TZID=America/New_York:20250515T174500
DTSTAMP:20260423T064952
CREATED:20170316T184416Z
LAST-MODIFIED:20170316T184416Z
UID:7660-1747290000-1747331100@dentaltlc.com
SUMMARY:7:00am-6:45pm
DESCRIPTION:Hi! We are open Thursdays from 7:00am-6:45pm. \nContact us to request an appointment or if you have any questions: \nRequest Appointment \n404-255-227 \nNeed to find us?\nGet Directions
URL:https://dentaltlc.com/event/620am-545pm-2020-09-03-2025-05-15/
LOCATION:290 Hilderbrand Dr #9\, Sandy Springs\, GA\, 30328\, United States
END:VEVENT
BEGIN:VEVENT
DTSTART;TZID=America/New_York:20250514T070000
DTEND;TZID=America/New_York:20260415T154500
DTSTAMP:20260423T064952
CREATED:20170316T181816Z
LAST-MODIFIED:20170316T181816Z
UID:7659-1747206000-1776267900@dentaltlc.com
SUMMARY:7:00am-3:45pm
DESCRIPTION:Hi! We are open Wednesdays and Fridays from 7:00 am-3:45pm. \nContact us to request an appointment or if you have any questions: \nRequest Appointment \n404-255-227 \nNeed to find us?\nGet Directions
URL:https://dentaltlc.com/event/open-2025-05-14/
LOCATION:290 Hilderbrand Dr #9\, Sandy Springs\, GA\, 30328\, United States
END:VEVENT
BEGIN:VEVENT
DTSTART;TZID=America/New_York:20250513T070000
DTEND;TZID=America/New_York:20260414T154500
DTSTAMP:20260423T064952
CREATED:20170316T181816Z
LAST-MODIFIED:20170316T181816Z
UID:7658-1747119600-1776181500@dentaltlc.com
SUMMARY:7:00am-3:45pm
DESCRIPTION:Hi! We are open Wednesdays and Fridays from 7:00 am-3:45pm. \nContact us to request an appointment or if you have any questions: \nRequest Appointment \n404-255-227 \nNeed to find us?\nGet Directions
URL:https://dentaltlc.com/event/open-2025-05-13/
LOCATION:290 Hilderbrand Dr #9\, Sandy Springs\, GA\, 30328\, United States
END:VEVENT
BEGIN:VEVENT
DTSTART;TZID=America/New_York:20250512T080000
DTEND;TZID=America/New_York:20250512T170000
DTSTAMP:20260423T064952
CREATED:20170316T182638Z
LAST-MODIFIED:20170316T182638Z
UID:7657-1747036800-1747069200@dentaltlc.com
SUMMARY:7:00am-6:45pm
DESCRIPTION:Hi! We are open Mondays from 7:00am-6:45pm. \nContact us to request an appointment or if you have any questions: \nRequest Appointment \n404-255-227 \nNeed to find us?\nGet Directions
URL:https://dentaltlc.com/event/700am-645pm-2025-05-12/
END:VEVENT
BEGIN:VEVENT
DTSTART;TZID=America/New_York:20250509T062000
DTEND;TZID=America/New_York:20250509T124500
DTSTAMP:20260423T064952
CREATED:20170316T190740Z
LAST-MODIFIED:20170316T190740Z
UID:7656-1746771600-1746794700@dentaltlc.com
SUMMARY:7:00am - 3:45pm
DESCRIPTION:Hi! We will be open Friday from 7:00am – 3:45pm. \nContact us to request an appointment or if you have any questions: \nRequest Appointment \n404-255-227 \nNeed to find us?\nGet Directions
URL:https://dentaltlc.com/event/620am-1245pm-2025-05-09/
LOCATION:290 Hilderbrand Dr #9\, Sandy Springs\, 30328\, United States
END:VEVENT
BEGIN:VEVENT
DTSTART;TZID=America/New_York:20250508T062000
DTEND;TZID=America/New_York:20250508T174500
DTSTAMP:20260423T064952
CREATED:20170316T184416Z
LAST-MODIFIED:20170316T184416Z
UID:7655-1746685200-1746726300@dentaltlc.com
SUMMARY:7:00am-6:45pm
DESCRIPTION:Hi! We are open Thursdays from 7:00am-6:45pm. \nContact us to request an appointment or if you have any questions: \nRequest Appointment \n404-255-227 \nNeed to find us?\nGet Directions
URL:https://dentaltlc.com/event/620am-545pm-2020-09-03-2025-05-08/
LOCATION:290 Hilderbrand Dr #9\, Sandy Springs\, GA\, 30328\, United States
END:VEVENT
BEGIN:VEVENT
DTSTART;TZID=America/New_York:20250507T070000
DTEND;TZID=America/New_York:20260408T154500
DTSTAMP:20260423T064952
CREATED:20170316T181816Z
LAST-MODIFIED:20170316T181816Z
UID:7654-1746601200-1775663100@dentaltlc.com
SUMMARY:7:00am-3:45pm
DESCRIPTION:Hi! We are open Wednesdays and Fridays from 7:00 am-3:45pm. \nContact us to request an appointment or if you have any questions: \nRequest Appointment \n404-255-227 \nNeed to find us?\nGet Directions
URL:https://dentaltlc.com/event/open-2025-05-07/
LOCATION:290 Hilderbrand Dr #9\, Sandy Springs\, GA\, 30328\, United States
END:VEVENT
BEGIN:VEVENT
DTSTART;TZID=America/New_York:20250506T070000
DTEND;TZID=America/New_York:20260407T154500
DTSTAMP:20260423T064952
CREATED:20170316T181816Z
LAST-MODIFIED:20170316T181816Z
UID:7650-1746514800-1775576700@dentaltlc.com
SUMMARY:7:00am-3:45pm
DESCRIPTION:Hi! We are open Wednesdays and Fridays from 7:00 am-3:45pm. \nContact us to request an appointment or if you have any questions: \nRequest Appointment \n404-255-227 \nNeed to find us?\nGet Directions
URL:https://dentaltlc.com/event/open-2025-05-06/
LOCATION:290 Hilderbrand Dr #9\, Sandy Springs\, GA\, 30328\, United States
END:VEVENT
BEGIN:VEVENT
DTSTART;TZID=America/New_York:20250505T080000
DTEND;TZID=America/New_York:20250505T170000
DTSTAMP:20260423T064952
CREATED:20170316T182638Z
LAST-MODIFIED:20170316T182638Z
UID:7649-1746432000-1746464400@dentaltlc.com
SUMMARY:7:00am-6:45pm
DESCRIPTION:Hi! We are open Mondays from 7:00am-6:45pm. \nContact us to request an appointment or if you have any questions: \nRequest Appointment \n404-255-227 \nNeed to find us?\nGet Directions
URL:https://dentaltlc.com/event/700am-645pm-2025-05-05/
END:VEVENT
BEGIN:VEVENT
DTSTART;TZID=America/New_York:20250502T062000
DTEND;TZID=America/New_York:20250502T124500
DTSTAMP:20260423T064952
CREATED:20170316T190740Z
LAST-MODIFIED:20170316T190740Z
UID:7648-1746166800-1746189900@dentaltlc.com
SUMMARY:7:00am - 3:45pm
DESCRIPTION:Hi! We will be open Friday from 7:00am – 3:45pm. \nContact us to request an appointment or if you have any questions: \nRequest Appointment \n404-255-227 \nNeed to find us?\nGet Directions
URL:https://dentaltlc.com/event/620am-1245pm-2025-05-02/
LOCATION:290 Hilderbrand Dr #9\, Sandy Springs\, 30328\, United States
END:VEVENT
BEGIN:VEVENT
DTSTART;TZID=America/New_York:20250501T062000
DTEND;TZID=America/New_York:20250501T174500
DTSTAMP:20260423T064952
CREATED:20170316T184416Z
LAST-MODIFIED:20170316T184416Z
UID:7647-1746080400-1746121500@dentaltlc.com
SUMMARY:7:00am-6:45pm
DESCRIPTION:Hi! We are open Thursdays from 7:00am-6:45pm. \nContact us to request an appointment or if you have any questions: \nRequest Appointment \n404-255-227 \nNeed to find us?\nGet Directions
URL:https://dentaltlc.com/event/620am-545pm-2020-09-03-2025-05-01/
LOCATION:290 Hilderbrand Dr #9\, Sandy Springs\, GA\, 30328\, United States
END:VEVENT
END:VCALENDAR